BEGIN:VCALENDAR
VERSION:2.0
PRODID:-//www.newmanumc.net//NONSGML kigkonsult.se iCalcreator 2.39.1//
CALSCALE:GREGORIAN
METHOD:PUBLISH
UID:34f621c8-a5c0-4b17-9bbc-455c2d07eba5
X-WR-CALNAME:www.newmanumc.net
X-WR-CALDESC:www.newmanumc.net
X-WR-TIMEZONE:America/Los_Angeles
X-LIC-LOCATION:America/Los_Angeles
BEGIN:VEVENT
UID:acaf728a-d5dd-4075-966c-a6447e392009
DTSTAMP:20260423T093934Z
CLASS:PUBLIC
DTSTART;TZID=America/Los_Angeles:20260423T090000
DTEND;TZID=America/Los_Angeles:20260423T130000
SUMMARY:Church Office Hours
TRANSP:OPAQUE
BEGIN:VALARM
ACTION:DISPLAY
DESCRIPTION:Church Office Hours
TRIGGER:-PT15M
END:VALARM
END:VEVENT
END:VCALENDAR
