BEGIN:VCALENDAR
VERSION:2.0
PRODID:-//www.newmanumc.net//NONSGML kigkonsult.se iCalcreator 2.39.1//
CALSCALE:GREGORIAN
METHOD:PUBLISH
UID:4db0eb92-1ffe-479c-8cc3-7822630298dd
X-WR-CALNAME:www.newmanumc.net
X-WR-CALDESC:www.newmanumc.net
X-WR-TIMEZONE:America/Los_Angeles
X-LIC-LOCATION:America/Los_Angeles
BEGIN:VEVENT
UID:00174ef6-742e-4faf-8bb4-01eb6aaa01da
DTSTAMP:20260421T112911Z
CLASS:PUBLIC
DTSTART;TZID=America/Los_Angeles:20260421T090000
DTEND;TZID=America/Los_Angeles:20260421T130000
SUMMARY:Church Office Hours
TRANSP:OPAQUE
BEGIN:VALARM
ACTION:DISPLAY
DESCRIPTION:Church Office Hours
TRIGGER:-PT15M
END:VALARM
END:VEVENT
END:VCALENDAR
